BEGIN:VCALENDAR
VERSION:2.0
PRODID:-//eventon.com NONSGML v1.0//EN
CALSCALE:GREGORIAN
METHOD:PUBLISH
BEGIN:VEVENT
UID:69e62f78cefa3
DTSTAMP:20260420T135152Z
DTSTART:20230302T173000Z
DTEND:20230302T183000Z
LOCATION:
SUMMARY:Wir empfehlen: "Das 3 x 3 der Vielfaltsgärtnerei – Von Brokkoli\,  Kohlrabi\,  Spitzkraut & vielen anderen Kohlgemüsen"
DESCRIPTION:Titel: &#8222;Das 3 x 3 der Vielfaltsgärtnerei – Von Brokko
 li\,  Kohlrabi\,  Spitzkraut &amp; vielen anderen Kohlgemüsen&#8220; Veran
 stalter: Ökologisches Bildungszentrum Ort: Online (Zoom)\,  kostenfrei In
 halt: Jeweils drei Vielfaltsgärtnerinnen oder Vielfaltsgärtner stellen ei
 ne Stunde lang zu verschiedenen Themenbereichen besondere Sorten vor\,  geb
 en wertvolle Tipps und freuen sich über den Austausch miteinander. Außerd
 em findet wieder[..]\nhttps://www.m-i-n.net/events/wir-empfehlen-das-3-x-3-
 der-vielfaltsgaertnerei-von-brokkoli-kohlrabi-spitzkraut-vielen-anderen-koh
 lgemuesen/
URL:https://www.m-i-n.net/events/wir-empfehlen-das-3-x-3-der-vielfaltsgaertnerei-von-brokkoli-kohlrabi-spitzkraut-vielen-anderen-kohlgemuesen/
END:VEVENT
END:VCALENDAR