BEGIN:VCALENDAR
VERSION:2.0
PRODID:-//eventon.com NONSGML v1.0//EN
CALSCALE:GREGORIAN
METHOD:PUBLISH
BEGIN:VEVENT
UID:69e75ee7b3dc7
DTSTAMP:20260421T112631Z
DTSTART:20230131T170000Z
DTEND:20230131T190000Z
LOCATION:
SUMMARY:Wir empfehlen: "Energiewende made in Munich"
DESCRIPTION:kda – Kirchlicher Dienst in der Arbeitswelt und Evangelischen
  Stadtakademie lädt zu  &#8222;Energiewende made in Munich&#8220; ein: Da
 tum: 31. Januar um 18:00 &#8211; 20:00 Ort: Evangelische Stadtakademie Mün
 chen\,  Herzog-Wilhelm-Straße 24\,  München\,  80331 Deutschland Gespräc
 hspartner: Florian Henle: Öko-Unternehmer und Gründer des Münchner Energ
 ieunternehmens Polarstern GmbH Inhalt: Ein Feierabendgespräch mit dem Öko
 -Unternehmer[..]\nhttps://www.m-i-n.net/events/wir-empfehlen-energiewende-m
 ade-in-munich/
URL:https://www.m-i-n.net/events/wir-empfehlen-energiewende-made-in-munich/
END:VEVENT
END:VCALENDAR