BEGIN:VCALENDAR
VERSION:2.0
PRODID:-//eventon.com NONSGML v1.0//EN
CALSCALE:GREGORIAN
METHOD:PUBLISH
BEGIN:VEVENT
UID:69e733c9f1abc
DTSTAMP:20260421T082233Z
DTSTART:20230126T180000Z
DTEND:20230126T200000Z
LOCATION:
SUMMARY:Wir empfehlen: "Dr. Matthias Fiedler (Forum Fairer Handel): „Klima-frei“ einkaufen – wie soll das denn gehen??“
DESCRIPTION:Protect the Planet und das Netzwerk Saubere Energie e.V. laden 
 in Kooperation mit vielen weitren Organisationen zu  einer Hybrid-Vortrags
 veranstaltung mit Publikums- und Chat-Diskussion in unserer Reihe „Klima 
 – was kann ich tun?“ ein: Donnerstag\,  26. Januar 2023 19:00 &#8211; 2
 1:00 Uhr im Münchner Zukunftssalon\,  Waltherstraße 29 Rückgebäude oder
  parallel per[..]\nhttps://www.m-i-n.net/events/wir-empfehlen-dr-matthias-f
 iedler-forum-fairer-handel-klima-frei-einkaufen-wie-soll-das-denn-gehen/
URL:https://www.m-i-n.net/events/wir-empfehlen-dr-matthias-fiedler-forum-fairer-handel-klima-frei-einkaufen-wie-soll-das-denn-gehen/
END:VEVENT
END:VCALENDAR