BEGIN:VCALENDAR
VERSION:2.0
PRODID:-//eventon.com NONSGML v1.0//EN
CALSCALE:GREGORIAN
METHOD:PUBLISH
BEGIN:VEVENT
UID:69e609917a247
DTSTAMP:20260420T111009Z
DTSTART:20221124T180000Z
DTEND:20221124T200000Z
LOCATION:
SUMMARY:„Klimastrategie München“: Langfristige Klima- und Umweltpolitik  – (wie) können Barrieren abgebaut werden? Vortrag von Prof. Detlef F. Sprinz\,  Ph. D.
DESCRIPTION:„Klimastrategie München“: Langfristige Klima- und Umweltpo
 litik – (wie) können Barrieren abgebaut werden? gehalten von: Prof. Detl
 ef F. Sprinz\,  Ph.D. Senior Scientist am PIK Potsdam-Institut für Klimafo
 lgenforschung e.V.\,  Professor an der Wirtschafts- und Sozialwissenschaftl
 ichen Fakultät der Universität Potsdam Donnerstag\,  24.11.2022\,  19:00 
 Uhr\,  Münchner Zukunftssalon und parallel Zoom-Online\,  Waltherstraße 2
 9\,  Rückgebäude als[..]\nhttps://www.m-i-n.net/events/klimastrategie-mue
 nchen-langfristige-klima-und-umweltpolitik-wie-koennen-barrieren-abgebaut-w
 erden-vortrag-von-prof-detlef-f-sprinz-ph-d/
URL:https://www.m-i-n.net/events/klimastrategie-muenchen-langfristige-klima-und-umweltpolitik-wie-koennen-barrieren-abgebaut-werden-vortrag-von-prof-detlef-f-sprinz-ph-d/
END:VEVENT
END:VCALENDAR