BEGIN:VCALENDAR
VERSION:2.0
PRODID:-//eventon.com NONSGML v1.0//EN
CALSCALE:GREGORIAN
METHOD:PUBLISH
BEGIN:VEVENT
UID:69e5fada17eb7
DTSTAMP:20260420T100722Z
DTSTART:20221021
DTEND:20221022
LOCATION:
SUMMARY:Wir empfehlen: „Greening the Balkans #3 – Der Kampf für Umweltgerechtigkeit in Südosteuropa“
DESCRIPTION:Workshops\,  Diskussionen sowie Musik &amp; Kunst am 21. und 22
 . Oktober 2022 ganztägig im Bellevue di Monaco\,  der Glockenbachwerkstatt
  und der Pinakothek der Moderne Ein Kooperationsprojekt von: balkaNet e. V.
  &amp; InitiativGruppe e. V. MIKADO UMdieWELT zur Webseite der Veranstaltun
 g: „Greening the Balkans #3 – Der Kampf für Umweltgerechtigkeit in[..]
 \nhttps://www.m-i-n.net/events/wir-empfehlen-greening-the-balkans-3-der-kam
 pf-fuer-umweltgerechtigkeit-in-suedosteuropa-copy/
URL:https://www.m-i-n.net/events/wir-empfehlen-greening-the-balkans-3-der-kampf-fuer-umweltgerechtigkeit-in-suedosteuropa-copy/
END:VEVENT
END:VCALENDAR