BEGIN:VCALENDAR
VERSION:2.0
PRODID:-//eventon.com NONSGML v1.0//EN
CALSCALE:GREGORIAN
METHOD:PUBLISH
BEGIN:VEVENT
UID:69e774a39d8a2
DTSTAMP:20260421T125915Z
DTSTART:20221110T193000Z
DTEND:20221110T210000Z
LOCATION:
SUMMARY:Wir empfehlen: "Helfer*innendialog in der Flüchtlingsarbeit"
DESCRIPTION:dritter Zyklus des öffentlichen Online-Dialogs am 13.10.\,  27
 .10. und 10.11.2022 (jeweils 20:30 bis 22:00) Die Teilnahme ist kostenlos. 
 Schicksale\,  Gefühle\,  Bilder – bei der Hilfe für Geflüchtete erlebe
 n Sie sehr viel Belastendes. Sie als Helfer*innen kommen dabei sicher auch 
 an Ihre Grenzen und fühlen sich vielleicht damit alleingelassen. Über Erf
 olge\, [..]\nhttps://www.m-i-n.net/events/wir-empfehlen-helferinnendialog-i
 n-der-fluechtlingsarbeit-copy/
URL:https://www.m-i-n.net/events/wir-empfehlen-helferinnendialog-in-der-fluechtlingsarbeit-copy/
END:VEVENT
END:VCALENDAR