BEGIN:VCALENDAR
VERSION:2.0
PRODID:-//eventon.com NONSGML v1.0//EN
CALSCALE:GREGORIAN
METHOD:PUBLISH
BEGIN:VEVENT
UID:69e5f4c8aeccf
DTSTAMP:20260420T094128Z
DTSTART:20221015T073000Z
DTEND:20221015T163000Z
LOCATION:
SUMMARY:Wir empfehlen: "Zivilcourage-Trainings für Interessierte"
DESCRIPTION:Titel: Zivilcourage-Trainings für Interessierte Veranstalter:
  Stiftung Gute-Tat München &amp; Region   Ort:  Friedrich-Ebert-Stiftung
 \,  Herzog-Wilhelm-Straße 1 /1. OG\,  80331 München Inhalt: Zivilcourage 
 lernen und kompetent handeln! Die Angebote von Stiftung Gute-Tat München s
 ind für jede*n geeignet\,  der / die Zivilcourage lernen will. Das Trainin
 g kostet € 10\, –. Mehr Informationen und Anmeldung auf[..]\nhttps://ww
 w.m-i-n.net/events/wir-empfehlen-zivilcourage-trainings-fuer-interessierte/
URL:https://www.m-i-n.net/events/wir-empfehlen-zivilcourage-trainings-fuer-interessierte/
END:VEVENT
END:VCALENDAR