BEGIN:VCALENDAR
VERSION:2.0
PRODID:-//eventon.com NONSGML v1.0//EN
CALSCALE:GREGORIAN
METHOD:PUBLISH
BEGIN:VEVENT
UID:69e5e4f4959e6
DTSTAMP:20260420T083356Z
DTSTART:20220910T090000Z
DTEND:20220910T160000Z
LOCATION:
SUMMARY:Westendkiez: Große Pflanzen-Verschenk-Aktion
DESCRIPTION:Titel: Westendkiez: Blumen und Erde fürs Westend Veranstalter:
  MIN Manufaktur 2 Ort: Schießstättstraße in Höhe des Schwanthaler Forum
  Inhalt: Nehmt die Blumen und Blumenerde aus unseren Beeten mit zu Euch nac
 h Hause. 2\, 5 Monate haben die Blumen in den grünen Kübeln die Schießst
 ättstraße verschönert &#8211; jetzt soll das gesamte Westend[..]\nhttps:
 //www.m-i-n.net/events/westendkiez-grosse-pflanzen-verschenk-aktion/
URL:https://www.m-i-n.net/events/westendkiez-grosse-pflanzen-verschenk-aktion/
END:VEVENT
END:VCALENDAR