BEGIN:VCALENDAR
VERSION:2.0
PRODID:-//eventon.com NONSGML v1.0//EN
CALSCALE:GREGORIAN
METHOD:PUBLISH
BEGIN:VEVENT
UID:69e73864d1530
DTSTAMP:20260421T084212Z
DTSTART:20220721T150000Z
DTEND:20220721T180000Z
LOCATION:
SUMMARY:Westendkiez: Zero-Waste-Picknick
DESCRIPTION:Titel: Westendkiez: Zero-Waste-Picknick Veranstalter: MIN Manuf
 aktur 2 Ort: Schießstättstraße in Höhe des Schwanthaler Forum Inhalt: D
 onnerstag ist Picknick-Tag Der Sommer ist da und wir laden Euch zu mehreren
  Picknick-Terminen am 21. Juli\,  28. Juli und am 11. August ein. Wir freue
 n uns darauf\,  gemeinsam mit Euch zu speisen und in[..]\nhttps://www.m-i-n
 .net/events/westendkiez-zero-waste-picknick-2/
URL:https://www.m-i-n.net/events/westendkiez-zero-waste-picknick-2/
END:VEVENT
END:VCALENDAR