BEGIN:VCALENDAR
VERSION:2.0
PRODID:-//eventon.com NONSGML v1.0//EN
CALSCALE:GREGORIAN
METHOD:PUBLISH
BEGIN:VEVENT
UID:69e5fdc051ad8
DTSTAMP:20260420T101944Z
DTSTART:20220703T150000Z
DTEND:20220703T170000Z
LOCATION:
SUMMARY:Wir empfehlen: "Wohnungspolitischer Stadtspaziergang durch die Maxvorstadt"
DESCRIPTION:Titel: Wohnungspolitischer Stadtspaziergang durch die Maxvorsta
 dt Veranstalter: Münchner Forum &#8211; Diskussionsforum für Entwicklungs
 fragen e.V. Ort: U-Bahn-Station Theresienstraße (U2)\,  Ausgang Theresien
 straße/Schwindstraße (vor der Bäckerei) Inhalt: Bei einem rund zweistün
 digen Spaziergang durch die Maxvorstadt erklären wir an konkreten Beispiel
 en\,  wie es zur Verdrängung von Bewohner*innen gekommen ist und warum Mie
 ten und Kaufpreise stetig[..]\nhttps://www.m-i-n.net/events/wohnungspolitis
 cher-stadtspaziergang-durch-die-maxvorstadt/
URL:https://www.m-i-n.net/events/wohnungspolitischer-stadtspaziergang-durch-die-maxvorstadt/
END:VEVENT
END:VCALENDAR