BEGIN:VCALENDAR
VERSION:2.0
PRODID:-//eventon.com NONSGML v1.0//EN
CALSCALE:GREGORIAN
METHOD:PUBLISH
BEGIN:VEVENT
UID:69e74b49062bf
DTSTAMP:20260421T100249Z
DTSTART:20220619T120000Z
DTEND:20220619T143000Z
LOCATION:
SUMMARY:Wir empfehlen "Ein Rundum-Spaziergang: ein grüner Eggarten oder ein grauer €ggarten"
DESCRIPTION:Titel: Ein Rundum-Spaziergang: ein grüner Eggarten oder ein gr
 auer €ggarten Veranstalter: Münchner Forum &#8211; Diskussionsforum für
  Entwicklungsfragen e.V. Ort: Bushaltestelle Lassallestraße\,  Linie 60 R
 ichtung Dessauerstraße Inhalt: Die landschaftlich einzigartige und ökolog
 isch wertvolle &#8222;Siedler-Genossenschaft Eggarten&#8220; lädt zum Spaz
 ieren ein. Doch für das Areal in der Lerchenau gibt es Pläne mit bis zu[.
 .]\nhttps://www.m-i-n.net/events/ein-gruener-eggarten-oder-ein-grauer-eggar
 ten/
URL:https://www.m-i-n.net/events/ein-gruener-eggarten-oder-ein-grauer-eggarten/
END:VEVENT
END:VCALENDAR