BEGIN:VCALENDAR
VERSION:2.0
PRODID:-//eventon.com NONSGML v1.0//EN
CALSCALE:GREGORIAN
METHOD:PUBLISH
BEGIN:VEVENT
UID:69e773193cde4
DTSTAMP:20260421T125241Z
DTSTART:20220814T170000Z
DTEND:20220814T180000Z
LOCATION:
SUMMARY:Westendkiez: Musikangebot - Peter Elleder Duo
DESCRIPTION:Titel: Westendkiez: Musikangebot &#8211; Peter Elleder Duo Vera
 nstalter: MIN Manufaktur 2 Ort: Schießstättstraße in Höhe des Schwantha
 ler Forum Inhalt:  Während unseres Sommerexperiment Schießstättstraße 
 vom 8. Juli bis Mitte September werden vor Ort viele Veranstaltungen auf de
 n freien und begrünten 40 Parkplätzen stattfinden. Die meisten Sonntagabe
 nde sind für Künstler aus dem[..]\nhttps://www.m-i-n.net/events/westendki
 ez-musikangebot-peter-elleder-duo/
URL:https://www.m-i-n.net/events/westendkiez-musikangebot-peter-elleder-duo/
END:VEVENT
END:VCALENDAR