BEGIN:VCALENDAR
VERSION:2.0
PRODID:-//eventon.com NONSGML v1.0//EN
CALSCALE:GREGORIAN
METHOD:PUBLISH
BEGIN:VEVENT
UID:69e7386a28c85
DTSTAMP:20260421T084218Z
DTSTART:20220807T120000Z
DTEND:20220807T160000Z
LOCATION:
SUMMARY:Westendkiez: Mobilitätsangebot - Stattauto
DESCRIPTION:Titel: Westendkiez: Mobilitätsangebot &#8211; Stattauto Verans
 talter: MIN Manufaktur 2 Ort: Schießstättstraße in Höhe des Schwanthale
 r Forum Inhalt:  Während unseres Sommerexperiment Schießstättstraße vo
 m 8. Juli bis Mitte September werden vor Ort viele Veranstaltungen auf den 
 freien und begrünten 40 Parkplätzen stattfinden. Mobilität: Komm am 07. 
 August und 21. August zum CarSharing-Infostand![..]\nhttps://www.m-i-n.net/
 events/westendkiez-diskussionen-stattauto/
URL:https://www.m-i-n.net/events/westendkiez-diskussionen-stattauto/
END:VEVENT
END:VCALENDAR