BEGIN:VCALENDAR
VERSION:2.0
PRODID:-//eventon.com NONSGML v1.0//EN
CALSCALE:GREGORIAN
METHOD:PUBLISH
BEGIN:VEVENT
UID:69e5e547b0449
DTSTAMP:20260420T083519Z
DTSTART:20220724T170000Z
DTEND:20220724T180000Z
LOCATION:
SUMMARY:Westendkiez: Musikangebot - Kramer & Techel
DESCRIPTION:Titel: Westendkiez: Musikangebot &#8211; Kramer &amp; Techel Ve
 ranstalter: MIN Manufaktur 2 Ort: Schießstättstraße in Höhe des Schwant
 haler Forum Inhalt:  Während unseres Sommerexperiment Schießstättstraß
 e vom 8. Juli bis Mitte September werden vor Ort viele Veranstaltungen auf 
 den freien und begrünten 40 Parkplätzen stattfinden. Die meisten Sonntaga
 bende sind für Künstler aus dem[..]\nhttps://www.m-i-n.net/events/westend
 kiez-musikangebot-kramer-manolo/
URL:https://www.m-i-n.net/events/westendkiez-musikangebot-kramer-manolo/
END:VEVENT
END:VCALENDAR