BEGIN:VCALENDAR
VERSION:2.0
PRODID:-//eventon.com NONSGML v1.0//EN
CALSCALE:GREGORIAN
METHOD:PUBLISH
BEGIN:VEVENT
UID:69e74cad5740f
DTSTAMP:20260421T100845Z
DTSTART:20220519T160000Z
DTEND:20220519T180000Z
LOCATION:
SUMMARY:29. Anschlusstreffen Manufaktur 8 "Bürgerbeteiligung und Partizipation"
DESCRIPTION:Titel: 29. Anschlusstreffen Manufaktur 8 &#8222;Bürgerbeteilig
 ung und Partizipation&#8220; Veranstalter: MIN Manufaktur 8 Ort: Zukunftssa
 lon von oekom e.V. Inhalt:  Wir haben wieder spannende Punkte auf der Agen
 da: Begrüßung\,  Vorstellungsrunde Kurzrückblick – was ist seit Januar
  passiert? Was treibt Euch grad um im „Demokratiecafé“ Erleben eines D
 emokratiecafé-Einstiegs Reflektion der Methode Ideen zur[..]\nhttps://www.
 m-i-n.net/events/29-anschlusstreffen-manufaktur-8-buergerbeteiligung-und-pa
 rtizipation/
URL:https://www.m-i-n.net/events/29-anschlusstreffen-manufaktur-8-buergerbeteiligung-und-partizipation/
END:VEVENT
END:VCALENDAR