BEGIN:VCALENDAR
VERSION:2.0
PRODID:-//eventon.com NONSGML v1.0//EN
CALSCALE:GREGORIAN
METHOD:PUBLISH
BEGIN:VEVENT
UID:69e61e9b883c6
DTSTAMP:20260420T123955Z
DTSTART:20220602T170000Z
DTEND:20220602T190000Z
LOCATION:
SUMMARY:Ulrich Grober: „Die Entdeckung der Nachhaltigkeit: uralt und hochaktuell!“
DESCRIPTION:Titel: Ulrich Grober: „Die Entdeckung der Nachhaltigkeit: ura
 lt und hochaktuell!“ Veranstalter: Protect the Planet und Partnerorganisa
 tionen (u.a. Münchner Initiative Nachhaltigkeit) Ort: LIVE im Münchner Zu
 kunfssalon und parallel Zoom-online Inhalt: Der Autor Ulrich Grober schläg
 t einen großen Bogen in der Suche nach dem „guten Leben für alle“: Vo
 n der Genesis 1.000[..]\nhttps://www.m-i-n.net/events/ulrich-grober-nachhal
 tigkeit-uralt-und-hochaktuell/
URL:https://www.m-i-n.net/events/ulrich-grober-nachhaltigkeit-uralt-und-hochaktuell/
END:VEVENT
END:VCALENDAR