BEGIN:VCALENDAR
VERSION:2.0
PRODID:-//eventon.com NONSGML v1.0//EN
CALSCALE:GREGORIAN
METHOD:PUBLISH
BEGIN:VEVENT
UID:69e5e9e91df9f
DTSTAMP:20260420T085505Z
DTSTART:20220508T120000Z
DTEND:20220508T160000Z
LOCATION:
SUMMARY:Wir empfehlen "Das Europa*Rad dreht sich für Frieden und europäische Werte "
DESCRIPTION:Titel: Das Europa*Rad dreht sich für Frieden und europäische 
 Werte Veranstalter: Insgesamt beteiligen sich über 40 verschiedene zivilge
 sellschaftliche\,  städtische und staatliche Einrichtungen\,  Organisation
 en und Vereine Ort: Münchener Riesenrad im Werksviertel Mitte am Ostbahnho
 f Inhalt: Am 08.05.2022 wird sich das Münchener Riesenrad im Werksviertel 
 Mitte am Ostbahnhof als „Europa*Rad“ für Frieden[..]\nhttps://www.m-i-
 n.net/events/wir-empfehlen-das-europarad-dreht-sich-fuer-frieden-und-europa
 eische-werte/
URL:https://www.m-i-n.net/events/wir-empfehlen-das-europarad-dreht-sich-fuer-frieden-und-europaeische-werte/
END:VEVENT
END:VCALENDAR