BEGIN:VCALENDAR
VERSION:2.0
PRODID:-//eventon.com NONSGML v1.0//EN
CALSCALE:GREGORIAN
METHOD:PUBLISH
BEGIN:VEVENT
UID:69e88ceb22e8f
DTSTAMP:20260422T085507Z
DTSTART:20220502T173000Z
DTEND:20220502T193000Z
LOCATION:
SUMMARY:Wir empfehlen: "WAS FISCHE  WOLLEN Letzte Chance für den Tiroler Inn"
DESCRIPTION:Titel: Filmabend mit Diskussion Deutschland-Premiere \,  WAS FI
 SCHE WOLLEN Letzte Chance für den Tiroler Inn Veranstalter: Filmclub Bozen
  Moderation: WWF Deutschland/Österreich Ort: Gasteig HP8\,  Halle E\,  Pro
 jekto\,  Hans-Preißinger-Straße 8\,  München  (Ecke Brudermühl-/Schäf
 tlarnstraße) Inhalt: WWF Deutschland und WWF Österreich laden am Montag\,
   den 2. Mai 2022\,  gemeinsam zur Deutschlandpremiere des Films[..]\nhttps
 ://www.m-i-n.net/events/wir-empfehlen-was-fische-wollen-letzte-chance-fuer-
 den-tiroler-inn/
URL:https://www.m-i-n.net/events/wir-empfehlen-was-fische-wollen-letzte-chance-fuer-den-tiroler-inn/
END:VEVENT
END:VCALENDAR