BEGIN:VCALENDAR
VERSION:2.0
PRODID:-//eventon.com NONSGML v1.0//EN
CALSCALE:GREGORIAN
METHOD:PUBLISH
BEGIN:VEVENT
UID:69e772a28d07a
DTSTAMP:20260421T125042Z
DTSTART:20220704T080000Z
DTEND:20220717T160000Z
LOCATION:
SUMMARY:Wir empfehlen "Mit Achtsamkeit zur Nachhaltigkeit"
DESCRIPTION:Titel: Mit Achtsamkeit zur Nachhaltigkeit Veranstalter: IBPro O
 rt: IBPro Seminarraum Lindwurmstr. 129 a\,  80337 München Inhalt: Ein Viru
 s hat es geschafft\,  unser Leben vollständig in neue Bahnen zu lenken. Di
 e Lebensweise der westlichen Welt trägt zu dieser Situation bei. Der globa
 le Zusammenhang wird uns deutlich vor Augen geführt. Letztlich sind[..]\nh
 ttps://www.m-i-n.net/events/wir-empfehlen-mit-achtsamkeit-zur-nachhaltigkei
 t/
URL:https://www.m-i-n.net/events/wir-empfehlen-mit-achtsamkeit-zur-nachhaltigkeit/
END:VEVENT
END:VCALENDAR