BEGIN:VCALENDAR
VERSION:2.0
PRODID:-//eventon.com NONSGML v1.0//EN
CALSCALE:GREGORIAN
METHOD:PUBLISH
BEGIN:VEVENT
UID:69e74c6aac834
DTSTAMP:20260421T100738Z
DTSTART:20220404T080000Z
DTEND:20220430T160000Z
LOCATION:
SUMMARY:Wir empfehlen "Halle 2 Pop-up-Store auf dem Viktualienmark"
DESCRIPTION:Titel: &#8222;Halle 2 Pop-up-Store auf dem Viktualienmark&#8220
 ; Veranstalter: AWM und M:UniverCity Ort: Halle 2 – Pop-Up Store als Pilo
 tprojekt am Viktualienmarkt\,  EckeWestenriederstraße 9 Inhalt: AWM und M:
 UniverCity starten Kooperationsprojekt für quartiersbezogene Lösungen zur
  Abfallvermeidung und Wiederverwendung. Ab dem 04.04. bis 30.04.2022 wird d
 er erste Halle 2 – Pop-Up Store als[..]\nhttps://www.m-i-n.net/events/wir
 -empfehlen-halle-2-pop-up-store-auf-dem-viktualienmark/
URL:https://www.m-i-n.net/events/wir-empfehlen-halle-2-pop-up-store-auf-dem-viktualienmark/
END:VEVENT
END:VCALENDAR