BEGIN:VCALENDAR
VERSION:2.0
PRODID:-//eventon.com NONSGML v1.0//EN
CALSCALE:GREGORIAN
METHOD:PUBLISH
BEGIN:VEVENT
UID:69e5e7a5a65cc
DTSTAMP:20260420T084525Z
DTSTART:20220405T170000Z
DTEND:20220405T183000Z
LOCATION:
SUMMARY:Wir empfehlen "'DIE WIEDERENTDECKUNG DES LEBENS - Gangbare Wege aus Klima- und Umweltkrise' von Ulrich Mössner"
DESCRIPTION:Titel: Buchvorstellung &#8218;DIE WIEDERENTDECKUNG DES LEBENS &
 #8211; Gangbare Wege aus Klima- und Umweltkrise&#8216; von Ulrich Mössner 
  Die Veranstalter: BenE München e.V. Referent: Ulrich Mössner Ort: Zoom
 -online Inhalt: Die Klimakrise ist ein untrüglicher Beleg: Wir bedrohen un
 sere eigenen Lebensgrundlagen\,  sind aber ganz offensichtlich nicht in der
  Lage\,  daran etwas Grundlegendes zu verändern.[..]\nhttps://www.m-i-n.ne
 t/events/wir-empfehlen-die-wiederentdeckung-des-lebens-gangbare-wege-aus-kl
 ima-und-umweltkrise-von-ulrich-moessner/
URL:https://www.m-i-n.net/events/wir-empfehlen-die-wiederentdeckung-des-lebens-gangbare-wege-aus-klima-und-umweltkrise-von-ulrich-moessner/
END:VEVENT
END:VCALENDAR