BEGIN:VCALENDAR
VERSION:2.0
PRODID:-//eventon.com NONSGML v1.0//EN
CALSCALE:GREGORIAN
METHOD:PUBLISH
BEGIN:VEVENT
UID:69e9dedb2edb4
DTSTAMP:20260423T085659Z
DTSTART:20220314T160000Z
DTEND:20220314T180000Z
LOCATION:
SUMMARY:MIN-Impulse: „Die Deutsche Nachhaltigkeitsstrategie und die Rolle der Kommunen bei der Umsetzung“
DESCRIPTION:Titel: Die Deutsche Nachhaltigkeitsstrategie und die Rolle der
  Kommunen bei der Umsetzung Veranstalter:  Münchner Initiative Nachhaltig
 keit Referent: ist Dr. Marc-Oliver Pahl\,  Generalssekretär\,  Rat für na
 chhaltige Entwicklung (RNE) Ort: Via Zoom Online Inhalt: Seit der Agenda 20
 30 und dem Pariser Klimaabkommen arbeiten alle politischen Ebenen daran\,  
 die nachhaltige Transformation in konkrete politische[..]\nhttps://www.m-i-
 n.net/events/min-impulse-die-deutsche-nachhaltigkeitsstrategie-und-die-roll
 e-der-kommunen-bei-der-umsetzung/
URL:https://www.m-i-n.net/events/min-impulse-die-deutsche-nachhaltigkeitsstrategie-und-die-rolle-der-kommunen-bei-der-umsetzung/
END:VEVENT
END:VCALENDAR