BEGIN:VCALENDAR
VERSION:2.0
PRODID:-//eventon.com NONSGML v1.0//EN
CALSCALE:GREGORIAN
METHOD:PUBLISH
BEGIN:VEVENT
UID:69e5ea1e7dc42
DTSTAMP:20260420T085558Z
DTSTART:20220317T160000Z
DTEND:20220317T190000Z
LOCATION:
SUMMARY:Wir empfehlen: 48. Netzwerk-Treffen BNE: â€žWurzeln fÃ¼r die Transformation â€“ Naturerleben in der Bildung fÃ¼r nachhaltige Entwicklungâ€œ
DESCRIPTION:Titel:Â 48. Netzwerk-Treffen BNE: â€žWurzeln fÃ¼r die Transform
 ation â€“ Naturerleben in der Bildung fÃ¼r nachhaltige Entwicklungâ€œ Veran
 stalter: Ã–koprojekt MobilSpiel e.V. Ort: online via Zoom Inhalt:Â  Natur- 
 und WildnisrÃ¤ume stellen Erfahrungs- und Lernorte mit unerschÃ¶pflichen MÃ
 ¶glichkeiten fÃ¼r die Bildung fÃ¼r nachhaltige Entwicklung dar. Doch wie si
 eht eine ganzheitliche Bildung fÃ¼r nachhaltige Entwicklung[..]\nhttps://ww
 w.m-i-n.net/events/wir-empfehlen-48-netzwerk-treffen-bne/
URL:https://www.m-i-n.net/events/wir-empfehlen-48-netzwerk-treffen-bne/
END:VEVENT
END:VCALENDAR