BEGIN:VCALENDAR
VERSION:2.0
PRODID:-//eventon.com NONSGML v1.0//EN
CALSCALE:GREGORIAN
METHOD:PUBLISH
BEGIN:VEVENT
UID:69e746212a8a0
DTSTAMP:20260421T094049Z
DTSTART:20220125T170000Z
DTEND:20220125T180000Z
LOCATION:
SUMMARY:Wir empfehlen: “MEET&DO-TREFF“
DESCRIPTION:Titel: 25 Jahre Klimapartnerschaft München-Asháninka. Gemeins
 am Lernen\,  gemeinsam Handeln &#8211; ein starker Beitrag zur Globalen Ger
 echtigkeit Veranstalter: Münchner Ernährungsrat e.V. Ort: online via Zoo
 m (Meeting-ID: 994 1137 0774\,  Kenncode: 156558) Inhalt:  Der Münchner
  Ernährungsrat startet ein neues Format für alle Interessierten: “Denn\
 ,  Ehrenamt in allen Ehren… nicht immer ist es leicht\,  die Themen\, [..
 ]\nhttps://www.m-i-n.net/events/wir-empfehlen-meetdo-treff/
URL:https://www.m-i-n.net/events/wir-empfehlen-meetdo-treff/
END:VEVENT
END:VCALENDAR