BEGIN:VCALENDAR
VERSION:2.0
PRODID:-//eventon.com NONSGML v1.0//EN
CALSCALE:GREGORIAN
METHOD:PUBLISH
BEGIN:VEVENT
UID:69e5e95223d6e
DTSTAMP:20260420T085234Z
DTSTART:20220323T160000Z
DTEND:20220323T173000Z
LOCATION:
SUMMARY:Wir empfehlen: „Zirkuläres Wirtschaften: Wie das Denken in Kreisläufen zum Standard wird“
DESCRIPTION:Titel: „Zirkuläres Wirtschaften: Wie das Denken in Kreisläu
 fen zum Standard wird“ Veranstalter: Rat für Nachhaltige Entwicklung Inh
 alt: Die heutige lineare Ökonomie zeichnet sich durch einen hohen Ressourc
 enverbrauch und einen gleichzeitig geringen Anteil an recycelten oder zirku
 lär weitergenutzten Rohstoffen aus. Um die nationalen\,  europäischen und
  globalen Nachhaltigkeitsziele zu erreichen\,  ist der[..]\nhttps://www.m-i
 -n.net/events/wir-empfehlen-zirkulaeres-wirtschaften-wie-das-denken-in-krei
 slaeufen-zum-standard-wird/
URL:https://www.m-i-n.net/events/wir-empfehlen-zirkulaeres-wirtschaften-wie-das-denken-in-kreislaeufen-zum-standard-wird/
END:VEVENT
END:VCALENDAR