BEGIN:VCALENDAR
VERSION:2.0
PRODID:-//eventon.com NONSGML v1.0//EN
CALSCALE:GREGORIAN
METHOD:PUBLISH
BEGIN:VEVENT
UID:69e6098cea4fc
DTSTAMP:20260420T111004Z
DTSTART:20211125
DTEND:20211126
LOCATION:
SUMMARY:Wir empfehlen:  “OPEN GOVERNMENT TAG 2021”
DESCRIPTION:Titel: “OPEN GOVERNMENT TAG 2021” Veranstalter: Landeshaup
 tstadt München Vortragende:Details zu den Vortragenden und Inhalten finden
  Sie auf unserer WebApp zum Event Inhalt:  „Nachhaltig\,  sozial\,  sich
 er“. Prinzipien\,  die in vielen Bereichen unseres Lebens eine wichtige R
 olle einnehmen. Welche Bedeutung aber haben sie im Kontext der Digitalisier
 ung? Dieser Frage gehen wir beim Open[..]\nhttps://www.m-i-n.net/events/wir
 -empfehlen-open-government-tag-2021/
URL:https://www.m-i-n.net/events/wir-empfehlen-open-government-tag-2021/
END:VEVENT
END:VCALENDAR