BEGIN:VCALENDAR
VERSION:2.0
PRODID:-//eventon.com NONSGML v1.0//EN
CALSCALE:GREGORIAN
METHOD:PUBLISH
BEGIN:VEVENT
UID:69e770e43a71f
DTSTAMP:20260421T124316Z
DTSTART:20210924T100000Z
DTEND:20210924T215000Z
LOCATION:
SUMMARY:Wir empfehlen: "Globaler Klimastreik"
DESCRIPTION:Titel: &#8222;Globaler Klimastreik&#8220; Veranstalter: Friday
 s For Future München Veranstaltungsort: Königsplatz Inhalt: Zwei Tage vor
  der Bundestagswahl mobilisiert Fridays For Future in ganz Deutschland wied
 er auf die Straßen\,  um Klimagerechtigkeit zum zentralen\,  zum wahlentsc
 heidenden Thema zu machen. Am 24.09. startet der nächste Großstreik\,  au
 ch bei uns in München &nbsp;\nhttps://www.m-i-n.net/events/wir-empfehlen-g
 lobaler-klimastreik/
URL:https://www.m-i-n.net/events/wir-empfehlen-globaler-klimastreik/
END:VEVENT
END:VCALENDAR