BEGIN:VCALENDAR
VERSION:2.0
PRODID:-//eventon.com NONSGML v1.0//EN
CALSCALE:GREGORIAN
METHOD:PUBLISH
BEGIN:VEVENT
UID:69e5e556e4bac
DTSTAMP:20260420T083534Z
DTSTART:20210909T091500Z
DTEND:20210909T104500Z
LOCATION:
SUMMARY:Wir empfehlen: "1. MÃ¼nchner MobilitÃ¤tskongress"
DESCRIPTION:Titel:Â &#8222;Experimentieren fÃ¼r die MobilitÃ¤tswende mit bÃ
 ¼rgerschaftlichen Projekten: Was geht schon jetzt\,  was muss sich in Zukun
 ft Ã¤ndern? &#8220; Veranstalter: Stadt MÃ¼nchen Veranstaltungsort: Der Mob
 ilitÃ¤tskongress wird parallel zur IAA von der Stadt MÃ¼nchen an der alten 
 Kongresshalle am Bavariapark veranstaltet Inhalt: Wir von MIN wollen die Ve
 rÃ¤nderung der MobilitÃ¤t in MÃ¼nchen[..]\nhttps://www.m-i-n.net/events/wir
 -empfehlen-1-mobilitaetskongress/
URL:https://www.m-i-n.net/events/wir-empfehlen-1-mobilitaetskongress/
END:VEVENT
END:VCALENDAR