BEGIN:VCALENDAR
VERSION:2.0
PRODID:-//eventon.com NONSGML v1.0//EN
CALSCALE:GREGORIAN
METHOD:PUBLISH
BEGIN:VEVENT
UID:69e5e766a7f6d
DTSTAMP:20260420T084422Z
DTSTART:20210920T101500Z
DTEND:20210921T140000Z
LOCATION:
SUMMARY:Wir empfehlen: 5. Bayerische Nachhaltigkeitstagung 2021
DESCRIPTION:Titel: 5. Bayerische Nachhaltigkeitstagung 2021 Veranstalter: 
 RENN.Süd\,  Zentrum für nachhaltige Kommunalentwicklung in Bayern\,  LBE 
 Bayern e.V. &nbsp; Inhalt: Unter dem Motto „#bayernnachhaltig – in eine
 r Kultur des Miteinanders!“ laden das Zentrum für nachhaltige Kommunalen
 twicklung in Bayern und RENN.süd auch 2021 gemeinsam mit vielen Kooperatio
 nspartner*innen zu einem virtuellen bayernweiten Erfahrungsaustausch zu nac
 hhaltiger[..]\nhttps://www.m-i-n.net/events/wir-empfehlen-5-bayerische-nach
 haltigkeitstagung/
URL:https://www.m-i-n.net/events/wir-empfehlen-5-bayerische-nachhaltigkeitstagung/
END:VEVENT
END:VCALENDAR