BEGIN:VCALENDAR
VERSION:2.0
PRODID:-//eventon.com NONSGML v1.0//EN
CALSCALE:GREGORIAN
METHOD:PUBLISH
BEGIN:VEVENT
UID:69e5e49e4e0c2
DTSTAMP:20260420T083230Z
DTSTART:20210906T160000Z
DTEND:20210906T173000Z
LOCATION:
SUMMARY:Westend Kiez: Kein Auto und doch mobil – wie könnten wir da im Westend gestalten?
DESCRIPTION:Titel: Kein Auto und doch mobil – wie könnten wir da im Wes
 tend gestalten? Veranstalter: MIN &#8211; Münchner Initiative Nachhaltigke
 it\,  M:UniverCity\,  Münchner Forum\,  Bund Naturschutz in Bayern\,  LMU\
 ,  TUM\,  Spiellandschaft\,  Forum Schwanthalerhöhe Ort: Im Schwanthaler F
 orum\,  Theresienhöhe 5\,  80339 München Inhalt: Die Grüne Insel ist ein
  weiterer Baustein auf dem Weg[..]\nhttps://www.m-i-n.net/events/westend-ki
 ez-kein-auto-doch-mobil/
URL:https://www.m-i-n.net/events/westend-kiez-kein-auto-doch-mobil/
END:VEVENT
END:VCALENDAR