BEGIN:VCALENDAR
VERSION:2.0
PRODID:-//eventon.com NONSGML v1.0//EN
CALSCALE:GREGORIAN
METHOD:PUBLISH
BEGIN:VEVENT
UID:69e5f60f090cf
DTSTAMP:20260420T094655Z
DTSTART:20210419T150000Z
DTEND:20210419T171500Z
LOCATION:
SUMMARY:Manufakturen-Treffen der Manufaktur 8 Bürgerbeteiligung und Partizipation
DESCRIPTION:Manufakturen-Treffen M8 Veranstalter: MIN\,  Manufaktur 8 &#821
 1; Bürgerbeteiligung und Partizipation Ort: Zoom (https://us02web.zoom.us/
 j/89656867373?pwd=YXdqb2RxYTlONGEwNVQxV21PSENuZz09 Meeting-ID: 896 5686 737
 3 Kenncode: Wa9XwQ Inhalt: Es stehen wieder spannende Themen auf unserer Ag
 enda: &#8222;TAL-Wohin?&#8220; ist ein (niederschwelliges) Angebot der Stuh
 ldisteln\,  die Straße &#8222;Im Tal&#8220; zwischen Marienplatz und Isart
 or mitzugestalten. 2021 geht das im Herbst 2020[..]\nhttps://www.m-i-n.net/
 events/m8-manufakturen-treffen/
URL:https://www.m-i-n.net/events/m8-manufakturen-treffen/
END:VEVENT
END:VCALENDAR