BEGIN:VCALENDAR
VERSION:2.0
PRODID:-//eventon.com NONSGML v1.0//EN
CALSCALE:GREGORIAN
METHOD:PUBLISH
BEGIN:VEVENT
UID:69e75d8f2b488
DTSTAMP:20260421T112047Z
DTSTART:20210520T150000Z
DTEND:20210520T190000Z
LOCATION:
SUMMARY:Wir empfehlen: Zero Waste Workshop: Abfallvermeidung und Kreislaufwirtschaft im alltäglichen Konsum
DESCRIPTION:Titel: Abfallvermeidung und Kreislaufwirtschaft im alltäglich
 en Konsum Veranstalter: rehab republic e.V. Zielgruppe: Privathaushalte\, 
  Vereine\,  Initiativen\,  Schulen\,  Universitäten\,  Events Inhalt: Am 
 02.07.2020 hat der Stadtrat beschlossen „München will Zero Waste City we
 rden“. Inzwischen hat die Stadt München den Abfallwirtschaftsbetrieb Mü
 nchen (AWM)\,  das Wuppertal Institut\,  rehab republic e.V. sowie Stakehol
 der Reporting und die Prognos AG[..]\nhttps://www.m-i-n.net/events/wir-empf
 ehlen-zero-waste-workshop-3/
URL:https://www.m-i-n.net/events/wir-empfehlen-zero-waste-workshop-3/
END:VEVENT
END:VCALENDAR