BEGIN:VCALENDAR
VERSION:2.0
PRODID:-//eventon.com NONSGML v1.0//EN
CALSCALE:GREGORIAN
METHOD:PUBLISH
BEGIN:VEVENT
UID:69e88a518bce7
DTSTAMP:20260422T084401Z
DTSTART:20210315T130000Z
DTEND:20210315T150000Z
LOCATION:
SUMMARY:Wir empfehlen: Pestizidbelastung und Insektenschwund in Naturschutzgebieten
DESCRIPTION:Titel: Pestizidbelastung und Insektenschwund in Naturschutzgebi
 eten in Nordrhein-Westfalen und in Rheinland-Pfalz Veranstalter: WECF Deut
 schland\,  Buijs Agro-Services Inhalt: Der Rückgang von Insektenpopulatio
 nen hängt u.a. von der Pestizidbelastung unserer Umwelt ab. Bisher wurden 
 nur wenige gezielte Forschungen dazu durchgeführt. Zusammen mit der Agrarb
 eratungsfirma Buijs Agro-Services haben wir die Pestizidbelastung von 32 St
 andorten v.a. in[..]\nhttps://www.m-i-n.net/events/wir-empfehlen-pestizidbe
 lastung-und-insektenschwund-in-naturschutzgebieten/
URL:https://www.m-i-n.net/events/wir-empfehlen-pestizidbelastung-und-insektenschwund-in-naturschutzgebieten/
END:VEVENT
END:VCALENDAR