BEGIN:VCALENDAR
VERSION:2.0
PRODID:-//eventon.com NONSGML v1.0//EN
CALSCALE:GREGORIAN
METHOD:PUBLISH
BEGIN:VEVENT
UID:69e7392dc6d50
DTSTAMP:20260421T084533Z
DTSTART:20210220T140000Z
DTEND:20210220T160000Z
LOCATION:
SUMMARY:Mehr Raum\,  mehr Grün - mehr Lärm im Westend Kiez? – Diskutieren Sie mit!
DESCRIPTION:Veranstalter: MIN\,  Manufaktur 2 &#8211; Mobilität und Verkeh
 r Ort: Online-Veranstaltung Das Projekt Westend Kiez  ist ein verkehrsberu
 higtes Viertel im Straßenkarree Kazmair-\,  Ganghofer-\,  Schwanthaler- (e
 v. Westendstr.) und Schießstättstraße. Analog zu den &#8222;Superblocks&
 #8220; in Barcelona ist geplant\,  den Durchgangsverkehr durch eine gezielt
 e Straßenführung\,  Tempolimits und Barrieren zu behindern. Wie möchten 
 gerne unsere[..]\nhttps://www.m-i-n.net/events/mehr-raum-mehr-gruen-mehr-la
 erm-im-westend-kiez-diskutieren-sie-mit/
URL:https://www.m-i-n.net/events/mehr-raum-mehr-gruen-mehr-laerm-im-westend-kiez-diskutieren-sie-mit/
END:VEVENT
END:VCALENDAR