BEGIN:VCALENDAR
VERSION:2.0
PRODID:-//eventon.com NONSGML v1.0//EN
CALSCALE:GREGORIAN
METHOD:PUBLISH
BEGIN:VEVENT
UID:69e89cef684d8
DTSTAMP:20260422T100327Z
DTSTART:20210303
DTEND:20210304
LOCATION:
SUMMARY:Wir empfehlen: Urbane Transformationen
DESCRIPTION:Titel: Urbane Transformationen: Wohnen | Ressourcen | Öffentli
 che Räume Veranstalterin: Hochschule München und das INUAS Netzwerk Ort: 
 online Inhalt: Die zweite internationale Tagung der Konferenzreihe „Urban
 e Transformationen: Wohnen | Ressourcen | Öffentliche Räume“ des INUAS 
 Netzwerkes behandelt das Thema Ressourcen\,  welches in vier Sektionen – 
 MATERIAL\,  ZEIT\,  RAUM\,  ENERGIE –[..]\nhttps://www.m-i-n.net/events/u
 rbane-transformationen/
URL:https://www.m-i-n.net/events/urbane-transformationen/
END:VEVENT
END:VCALENDAR