BEGIN:VCALENDAR
VERSION:2.0
PRODID:-//eventon.com NONSGML v1.0//EN
CALSCALE:GREGORIAN
METHOD:PUBLISH
BEGIN:VEVENT
UID:69e609968738c
DTSTAMP:20260420T111014Z
DTSTART:20210326T060000Z
DTEND:20210326T073000Z
LOCATION:
SUMMARY:Wir empfehlen: Globale Grenzen menschlichen Handelns
DESCRIPTION:Titel: Globale Grenzen menschlichen Handelns: Klima und Ressour
 cen zusammendenken! Referent: Dr. Harry Lehmann\,  Umweltbundesamt (UBA)\, 
  Leiter Abt. I „Umweltplanung und Nachhaltigkeit“ Veranstaltungsort: On
 line-Veranstaltung; Anmeldung unbedingt erforderlich: Globale Grenzen mensc
 hlichen Handelns: Klima und Ressourcen zusammendenken! Inhalt: Sand wird kn
 app! Ja\,  wirklich! In einer begrenzten Welt ist auch die nachhaltige Nutz
 ung von[..]\nhttps://www.m-i-n.net/events/globale-grenzen-menschlichen-hand
 elns/
URL:https://www.m-i-n.net/events/globale-grenzen-menschlichen-handelns/
END:VEVENT
END:VCALENDAR