BEGIN:VCALENDAR
VERSION:2.0
PRODID:-//eventon.com NONSGML v1.0//EN
CALSCALE:GREGORIAN
METHOD:PUBLISH
BEGIN:VEVENT
UID:69e5f6b5730bb
DTSTAMP:20260420T094941Z
DTSTART:20210128T180000Z
DTEND:20210128T193000Z
LOCATION:
SUMMARY:Wir empfehlen: JA zum Windkraft-Ausbau
DESCRIPTION:Titel: JA zum Windkraft-Ausbau &#8211; Aber naturverträglich u
 nd in Bürgerhand! Referentin: Caroline Gebauer\,  BUND Umwelt und Natursch
 utz e.V.\,  Berlin\,  Leiterin Energie- und nationale Klimapolitik Inhalt: 
 Um die Folgen der Klimakrise einzudämmen und die biologische Vielfalt zu b
 ewahren\,  ist der schnellstmögliche Ausstieg aus fossilen Energien für W
 ärme\,  Strom und Mobilität unabdingbar.[..]\nhttps://www.m-i-n.net/event
 s/windkraft-ausbau/
URL:https://www.m-i-n.net/events/windkraft-ausbau/
END:VEVENT
END:VCALENDAR