BEGIN:VCALENDAR
VERSION:2.0
PRODID:-//eventon.com NONSGML v1.0//EN
CALSCALE:GREGORIAN
METHOD:PUBLISH
BEGIN:VEVENT
UID:69e89cef62fb3
DTSTAMP:20260422T100327Z
DTSTART:20201216T060000Z
DTEND:20201216T080000Z
LOCATION:
SUMMARY:Wir empfehlen: Wald und Klimakrise: Waldsterben 4.0
DESCRIPTION:Veranstalterin: Münchner Forum Nachhaltigkeit Kooperation: Bun
 d Naturschutz in Bayern (Kreisgruppe München) und weitere Münchner Umwelt
 gruppen und Stiftungen Referent: Prof. Dr. Hubert Weiger Inhalt: Das Münch
 ner Forum Nachhaltigkeit lädt ein zur Online-Veranstaltung in Kooperation 
 mit dem Bund Naturschutz in Bayern (Kreisgruppe München)\,  die den prekä
 ren Zustand unserer Wälder in den Blick[..]\nhttps://www.m-i-n.net/events/
 wald-und-klimakrise-waldsterben-4-0/
URL:https://www.m-i-n.net/events/wald-und-klimakrise-waldsterben-4-0/
END:VEVENT
END:VCALENDAR