BEGIN:VCALENDAR
VERSION:2.0
PRODID:-//eventon.com NONSGML v1.0//EN
CALSCALE:GREGORIAN
METHOD:PUBLISH
BEGIN:VEVENT
UID:69e5f7e4d3cb9
DTSTAMP:20260420T095444Z
DTSTART:20201201T050000Z
DTEND:20201201T063000Z
LOCATION:
SUMMARY:Wir empfehlen: Ringvorlesung der HM: "Energie- und Klimapolitik der EU"
DESCRIPTION:Referent: Prof. Stephan Rappenglück\,  Hochschule München Ort
 : Online Vorlesung über Zoom Maximale Teilnehmerzahl: 300 Eine Veranstaltu
 ng im Rahmen der Ringvorlesung &#8222;HM-Lectures for Future &#8211; Wissen
 schaft\,  Technik\,  Gesellschaft&#8220; im Wintersemester 2020/21 der Hoch
 schule München. Zugangslink:  https://tinyurl.com/HM-ForFuture Zoom-Meeti
 ng ID: 947 3715 4657 Passwort: 631 726 Quelle und weitere Infos: https://ww
 w.hm.edu/allgemein/aktuelles/veranstaltungen &nbsp; &nbsp;[..]\nhttps://www
 .m-i-n.net/events/energie-und-klimapolitik-der-eu/
URL:https://www.m-i-n.net/events/energie-und-klimapolitik-der-eu/
END:VEVENT
END:VCALENDAR