BEGIN:VCALENDAR
VERSION:2.0
PRODID:-//eventon.com NONSGML v1.0//EN
CALSCALE:GREGORIAN
METHOD:PUBLISH
BEGIN:VEVENT
UID:69e74c500b141
DTSTAMP:20260421T100712Z
DTSTART:20201110T050000Z
DTEND:20201110T063000Z
LOCATION:
SUMMARY:Wir empfehlen: Ringvorlesung der HM: "Sonnenbatterie und Windstrom..."
DESCRIPTION:Titel: &#8222;Sonnenbatterie und Windstrom – Energiespeicher 
 für nachhaltige Energiesysteme&#8220; Referent: Prof. Oliver Sven Bohlen (
 Hochschule München) Ort: Online Vorlesung über Zoom Maximale Zahl der Tei
 lnehmer*innen: 300 Eine Veranstaltung im Rahmen der Ringvorlesung &#8222;HM
 -Lectures for Future &#8211; Wissenschaft\,  Technik\,  Gesellschaft&#8220;
  im Wintersemester 2020/21 der Hochschule München. Zugangslink: https://ti
 nyurl.com/HM-ForFuture Zoom-Meeting ID: 947[..]\nhttps://www.m-i-n.net/even
 ts/wie-empfehlen-vortrag-sonnenbatterie-und-windstrom-energiespeicher-fuer-
 nachhaltige-energiesysteme/
URL:https://www.m-i-n.net/events/wie-empfehlen-vortrag-sonnenbatterie-und-windstrom-energiespeicher-fuer-nachhaltige-energiesysteme/
END:VEVENT
END:VCALENDAR