BEGIN:VCALENDAR
VERSION:2.0
PRODID:-//eventon.com NONSGML v1.0//EN
CALSCALE:GREGORIAN
METHOD:PUBLISH
BEGIN:VEVENT
UID:69e748fc89dd4
DTSTAMP:20260421T095300Z
DTSTART:20201103T050000Z
DTEND:20201103T063000Z
LOCATION:
SUMMARY:Wir empfehlen: Ringvorlesung der HM: "Energy - how much do we need and have"
DESCRIPTION:Referent: Prof. Herbert Palm (Hochschule München) Ort: Online 
 Vorlesung über Zoom Maximale Zahl der Teilnehmer*innen: 300 Eine Veranstal
 tung im Rahmen der Ringvorlesung &#8222;HM-Lectures for Future &#8211; Wiss
 enschaft\,  Technik\,  Gesellschaft&#8220; im Wintersemester 2020/21 der Ho
 chschule München. Zugangslink: https://tinyurl.com/HM-ForFuture Zoom-Meeti
 ng ID: 947 3715 4657 Passwort: 631 726 Quelle und Infos: https://www.hm.edu
 /allgemein/aktuelles/veranstaltungen &nbsp;[..]\nhttps://www.m-i-n.net/even
 ts/energy-how-much-do-we-need-and-have/
URL:https://www.m-i-n.net/events/energy-how-much-do-we-need-and-have/
END:VEVENT
END:VCALENDAR