BEGIN:VCALENDAR
VERSION:2.0
PRODID:-//eventon.com NONSGML v1.0//EN
CALSCALE:GREGORIAN
METHOD:PUBLISH
BEGIN:VEVENT
UID:69e75f990644b
DTSTAMP:20260421T112929Z
DTSTART:20201021T090000Z
DTEND:20201021T120000Z
LOCATION:
SUMMARY:Wir empfehlen: Webinar "Water\,  Sanitation & Hygiene (WASH) ..."
DESCRIPTION:Titel: Water\,  Sanitation &amp; Hygiene (WASH) und Geschlechte
 rgerechtigkeit in der Entwicklungszusammenarbeit Veranstalter: WECF (Woman 
 Engage for a Common Future) Referentinnen: Dr. Claudia Wendland\,  Senior W
 ater &amp; Sanitation Specialist HAMBURG WASSER und Anna Samwel\,  Head of 
 Branch Office WECF Georgien Ort: Online &#8211; Training Inhalte: Gender-se
 nsitives Monitorin im WASH-Bereich\,  Training of[..]\nhttps://www.m-i-n.ne
 t/events/wir-empfehlen-water-sanitation-hygiene-wash-und/
URL:https://www.m-i-n.net/events/wir-empfehlen-water-sanitation-hygiene-wash-und/
END:VEVENT
END:VCALENDAR