BEGIN:VCALENDAR
VERSION:2.0
PRODID:-//eventon.com NONSGML v1.0//EN
CALSCALE:GREGORIAN
METHOD:PUBLISH
BEGIN:VEVENT
UID:69e61c0a41b01
DTSTAMP:20260420T122858Z
DTSTART:20200923
DTEND:20200924
LOCATION:
SUMMARY:Anmeldeschluss zur FreiwilligenMesse 2021
DESCRIPTION:Hier geht es zur Information https://muenchner-freiwilligen-mes
 se.de//aussteller\nhttps://www.m-i-n.net/events/anmeldeschluss-zur-freiwill
 igenmesse-2021/
URL:https://www.m-i-n.net/events/anmeldeschluss-zur-freiwilligenmesse-2021/
END:VEVENT
END:VCALENDAR