BEGIN:VCALENDAR
VERSION:2.0
PRODID:-//eventon.com NONSGML v1.0//EN
CALSCALE:GREGORIAN
METHOD:PUBLISH
BEGIN:VEVENT
UID:69e76f8018261
DTSTAMP:20260421T123720Z
DTSTART:20171026T140000Z
DTEND:20171026T180000Z
LOCATION:Pädagogisches Institut Herrnstraße 19
SUMMARY:Konsolidierung von MIN
DESCRIPTION:Themen: Zukunftsrat Hamburg &#8211; ein interessantes Partizipa
 tionsmodell (Dr. Hans Joachim Menzel)\,  Stand der Konsolidierung der Münc
 hner Initiative Nachhaltigkeit\nhttps://www.m-i-n.net/events/konsolidierung
 -von-min/
URL:https://www.m-i-n.net/events/konsolidierung-von-min/
END:VEVENT
END:VCALENDAR