BEGIN:VCALENDAR
VERSION:2.0
PRODID:-//eventon.com NONSGML v1.0//EN
CALSCALE:GREGORIAN
METHOD:PUBLISH
BEGIN:VEVENT
UID:69e5e76286d67
DTSTAMP:20260420T084418Z
DTSTART:20190626T170000Z
DTEND:20190626T200000Z
LOCATION:
SUMMARY:Bündnispartnertreffen
DESCRIPTION:Thema: OB-Gesprächs Anfang Juli \,  Strategie und Forderungen 
 Ort:  Selbsthilfezentrum\,  Westendstr. 68 statt. Um Anmeldung wird gebet
 en!\nhttps://www.m-i-n.net/events/buendnispartnertreffen-3/
URL:https://www.m-i-n.net/events/buendnispartnertreffen-3/
END:VEVENT
END:VCALENDAR