BEGIN:VCALENDAR
VERSION:2.0
PRODID:-//eventon.com NONSGML v1.0//EN
CALSCALE:GREGORIAN
METHOD:PUBLISH
BEGIN:VEVENT
UID:69e5f71d1b03e
DTSTAMP:20260420T095125Z
DTSTART:20191017T140000Z
DTEND:20191017T170000Z
LOCATION:
SUMMARY:Offenes Werkstattgespräch der Manufaktur 8
DESCRIPTION:Diskutiert werden Fragen zu adäquater Information\,  Transpare
 nz\,  Inklusion oder der sinnvollen Verschränkung von Online- und Offlineb
 eteiligungsmaßnahmen.\nhttps://www.m-i-n.net/events/offenes-werkstattgespr
 aech-der-manufaktur-8/
URL:https://www.m-i-n.net/events/offenes-werkstattgespraech-der-manufaktur-8/
END:VEVENT
END:VCALENDAR