BEGIN:VCALENDAR
VERSION:2.0
PRODID:-//eventon.com NONSGML v1.0//EN
CALSCALE:GREGORIAN
METHOD:PUBLISH
BEGIN:VEVENT
UID:69e5f81d96dd8
DTSTAMP:20260420T095541Z
DTSTART:20191119T160000Z
DTEND:20191119T190000Z
LOCATION:
SUMMARY:Arbeitstreffen der Manufaktur 8
DESCRIPTION:Themen: Planung möglicher weiterer Aktivitäten\,   Werkstatt
 gespräch und die Integration der Ergebnisse in das zentrale Dokument„Emp
 fehlungen zur Konzeption und zum Aufbau einer Online-Partizipationsplattfor
 m der Landeshauptstadt München“\,   Prozess der weiteren Ausgestaltung 
 des Dokuments Organisatorisches\nhttps://www.m-i-n.net/events/arbeitstreffe
 n-der-manufaktur-8-6/
URL:https://www.m-i-n.net/events/arbeitstreffen-der-manufaktur-8-6/
END:VEVENT
END:VCALENDAR