BEGIN:VCALENDAR
VERSION:2.0
PRODID:-//eventon.com NONSGML v1.0//EN
CALSCALE:GREGORIAN
METHOD:PUBLISH
BEGIN:VEVENT
UID:69e49a037772f
DTSTAMP:20260419T090155Z
DTSTART:20191104T160000Z
DTEND:20191104T190000Z
LOCATION:
SUMMARY:Bündnispartnertreffen
DESCRIPTION:Am 4.11.2019 findet das zweite Bündnispartnertreffen statt.\nh
 ttps://www.m-i-n.net/events/buendnispartnertreffen-2/
URL:https://www.m-i-n.net/events/buendnispartnertreffen-2/
END:VEVENT
END:VCALENDAR