BEGIN:VCALENDAR
VERSION:2.0
PRODID:-//eventon.com NONSGML v1.0//EN
CALSCALE:GREGORIAN
METHOD:PUBLISH
BEGIN:VEVENT
UID:69e61a34adfaf
DTSTAMP:20260420T122108Z
DTSTART:20200324T160000Z
DTEND:20200324T210000Z
LOCATION:
SUMMARY:Bündnispartnertreffen
DESCRIPTION:Das dritte Bündnispartner-Treffen findet am 24.3.2020 im Zukun
 ftssalon im Rückgebäude der Waltherstr. 29\,  von 16:00 – 19:00 Uhr sta
 tt.\nhttps://www.m-i-n.net/events/buendnispartnertreffen/
URL:https://www.m-i-n.net/events/buendnispartnertreffen/
END:VEVENT
END:VCALENDAR