BEGIN:VCALENDAR
VERSION:2.0
PRODID:-//eventon.com NONSGML v1.0//EN
CALSCALE:GREGORIAN
METHOD:PUBLISH
BEGIN:VEVENT
UID:69e7461488b94
DTSTAMP:20260421T094036Z
DTSTART:20200305T170000Z
DTEND:20200305T190000Z
LOCATION:
SUMMARY:Tagung Mutige Frauen verändern die Welt – Women Empowerment im globalen Süden
DESCRIPTION:Gemeinsam mit der Manufaktur 7 lud der Landesverband Bayern der
  DGVN (Deutsche Gesellschaft für die Vereinten Nationen) zu einer Tagung z
 um Internationalen Frauentag ein.\nhttps://www.m-i-n.net/events/tagung-muti
 ge-frauen-veraendern-die-welt-women-empowerment-im-globalen-sueden/
URL:https://www.m-i-n.net/events/tagung-mutige-frauen-veraendern-die-welt-women-empowerment-im-globalen-sueden/
END:VEVENT
END:VCALENDAR